BEGIN:VCALENDAR
VERSION:2.0
PRODID:-//Health Insurance Agent | Stella Agents | United States - ECPv6.15.10//NONSGML v1.0//EN
CALSCALE:GREGORIAN
METHOD:PUBLISH
X-ORIGINAL-URL:https://stellaagents.com
X-WR-CALDESC:Events for Health Insurance Agent | Stella Agents | United States
REFRESH-INTERVAL;VALUE=DURATION:PT1H
X-Robots-Tag:noindex
X-PUBLISHED-TTL:PT1H
BEGIN:VTIMEZONE
TZID:Asia/Shanghai
BEGIN:STANDARD
TZOFFSETFROM:+0800
TZOFFSETTO:+0800
TZNAME:CST
DTSTART:20240101T000000
END:STANDARD
END:VTIMEZONE
BEGIN:VEVENT
DTSTART;TZID=Asia/Shanghai:20250519T110000
DTEND;TZID=Asia/Shanghai:20250519T120000
DTSTAMP:20260423T084606
CREATED:20220810T011918Z
LAST-MODIFIED:20220810T011918Z
UID:13470-1747652400-1747656000@stellaagents.com
SUMMARY:Building A Confident Mindset for Success in Sales Training
DESCRIPTION:About the Event\n\n\n\nThis is your event description. Use this space to provide a brief summary of the event and any additional information so attendees know what’s in store. \nConsider adding details such as what’s on the agenda\, especially recommended attire\, and other relevant information that would be helpful for guests. For any speakers presenting at your event\, this is an excellent opportunity to describe the topics covered or include a short bio. If the event is geared towards a specific type of audience\, make sure to note that here.
URL:https://stellaagents.com/event/building-a-confident-mindset-for-success-in-sales-training/
LOCATION:Zoom
CATEGORIES:Zoom Event
END:VEVENT
END:VCALENDAR